{
 "currentVersion": 10.81,
 "serviceDescription": "",
 "mapName": "New Data Frame",
 "description": "",
 "copyrightText": "",
 "supportsDynamicLayers": true,
 "layers": [
  {
   "id": 0,
   "name": "2010 Air Photos",
   "parentLayerId": -1,
   "defaultVisibility": true,
   "subLayerIds": null,
   "minScale": 0,
   "maxScale": 0,
   "type": "Raster Layer"
  }
 ],
 "tables": [],
 "spatialReference": {
  "wkid": 26917,
  "latestWkid": 26917
 },
 "singleFusedMapCache": true,
 "tileInfo": {
  "rows": 256,
  "cols": 256,
  "dpi": 96,
  "format": "MIXED",
  "compressionQuality": 75,
  "origin": {
   "x": -5682840.144470001,
   "y": 1.0891397798630003E7
  },
  "spatialReference": {
   "wkid": 26917,
   "latestWkid": 26917
  },
  "lods": [
   {
    "level": 0,
    "resolution": 5291.677250021167,
    "scale": 20000000
   },
   {
    "level": 1,
    "resolution": 2645.8386250105837,
    "scale": 10000000
   },
   {
    "level": 2,
    "resolution": 1322.9193125052918,
    "scale": 5000000
   },
   {
    "level": 3,
    "resolution": 661.4596562526459,
    "scale": 2500000
   },
   {
    "level": 4,
    "resolution": 264.5838625010584,
    "scale": 1000000
   },
   {
    "level": 5,
    "resolution": 132.2919312505292,
    "scale": 500000
   },
   {
    "level": 6,
    "resolution": 79.37515875031751,
    "scale": 300000
   },
   {
    "level": 7,
    "resolution": 39.687579375158755,
    "scale": 150000
   },
   {
    "level": 8,
    "resolution": 19.843789687579378,
    "scale": 75000
   },
   {
    "level": 9,
    "resolution": 13.229193125052918,
    "scale": 50000
   },
   {
    "level": 10,
    "resolution": 6.614596562526459,
    "scale": 25000
   },
   {
    "level": 11,
    "resolution": 3.9687579375158752,
    "scale": 15000
   },
   {
    "level": 12,
    "resolution": 2.116670900008467,
    "scale": 8000
   },
   {
    "level": 13,
    "resolution": 1.0583354500042335,
    "scale": 4000
   },
   {
    "level": 14,
    "resolution": 0.5291677250021167,
    "scale": 2000
   },
   {
    "level": 15,
    "resolution": 0.26458386250105836,
    "scale": 1000
   },
   {
    "level": 16,
    "resolution": 0.13229193125052918,
    "scale": 500
   },
   {
    "level": 17,
    "resolution": 0.06614596562526459,
    "scale": 250
   }
  ]
 },
 "initialExtent": {
  "xmin": 636471.0651594711,
  "ymin": 4858392.852933472,
  "xmax": 662857.6539326488,
  "ymax": 4867931.588010943,
  "spatialReference": {
   "wkid": 26917,
   "latestWkid": 26917
  }
 },
 "fullExtent": {
  "xmin": 641998.9322771635,
  "ymin": 4849998.942936342,
  "xmax": 660000.9322771635,
  "ymax": 4877000.942936342,
  "spatialReference": {
   "wkid": 26917,
   "latestWkid": 26917
  }
 },
 "minScale": 150000,
 "maxScale": 250,
 "units": "esriMeters",
 "supportedImageFormatTypes": "PNG32,PNG24,PNG,JPG,DIB,TIFF,EMF,PS,PDF,GIF,SVG,SVGZ,BMP",
 "documentInfo": {
  "Title": "General Map",
  "Author": "jbarker",
  "Comments": "",
  "Subject": "",
  "Category": "",
  "AntialiasingMode": "None",
  "TextAntialiasingMode": "Force",
  "Keywords": ""
 },
 "capabilities": "Map,Query,Data",
 "supportedQueryFormats": "JSON, geoJSON",
 "exportTilesAllowed": false,
 "referenceScale": 0,
 "supportsDatumTransformation": true,
 "maxRecordCount": 1000,
 "maxImageHeight": 4096,
 "maxImageWidth": 4096,
 "supportedExtensions": "KmlServer"
}
